BEGIN:VCALENDAR
VERSION:2.0
PRODID:icalendar-ruby
CALSCALE:GREGORIAN
METHOD:PUBLISH
BEGIN:VEVENT
DTSTAMP:20260420T163149Z
UID:29-2991092@tfwb.org
DTSTART:20261018T223000Z
DTEND:20261019T003000Z
CLASS:PUBLIC
CREATED:20260420T115112
DESCRIPTION:Youth night is every Sunday night at 6:30pm. Students have a ti
 me of worship and devotion. Dinner and games are usually on the last Sunda
 y of the month.\n\nNo youth night when on J-Town nights.\nNo youth night d
 uring VBS or Instate Week\n
LAST-MODIFIED:20260420T115112
LOCATION:Townsend Church 4519 S. DuPont Parkway Townsend\, DE 19734
SUMMARY:Youth Night
URL;VALUE=URI:https://www.tfwb.org/events/youth-night/2026-10-18
ATTACH;FILENAME=Youth Night.jpg;FMTTYPE=image/jpeg:https://dq5pwpg1q8ru0.cl
 oudfront.net/2020/11/28/13/23/53/5fa4cb12-47cf-4434-a6fc-c16cee6212e8/Yout
 h%20Night.jpg
END:VEVENT
END:VCALENDAR
