BEGIN:VCALENDAR
VERSION:2.0
PRODID:icalendar-ruby
CALSCALE:GREGORIAN
METHOD:PUBLISH
BEGIN:VEVENT
DTSTAMP:20260421T103217Z
UID:118-2939452@tfwb.org
DTSTART;VALUE=DATE:20260614
DTEND;VALUE=DATE:20260614
CLASS:PUBLIC
CREATED:20260415T172238
DESCRIPTION:Contact Pastor Tim\, tim@tfwb.org\, with details about your gra
 duate. Please include full name\, contact info\, school they are graduatin
 g from\, the school they will be attending next year\, job plans\, and any
  special honors or scholarships.
LAST-MODIFIED:20260415T172238
LOCATION:
SUMMARY:Graduation Sunday
URL;VALUE=URI:https://www.tfwb.org/events/graduation-sunday/2026-06-14
ATTACH;FILENAME=GRAD-SUNDAY-mainTitle.jpg;FMTTYPE=image/jpeg:https://dq5pwp
 g1q8ru0.cloudfront.net/2023/04/22/18/28/24/fa42dcdd-2cb3-468f-8c88-2809923
 23b79/GRAD-SUNDAY-mainTitle.jpg
END:VEVENT
END:VCALENDAR
