BEGIN:VCALENDAR
VERSION:2.0
PRODID:icalendar-ruby
CALSCALE:GREGORIAN
METHOD:PUBLISH
BEGIN:VEVENT
DTSTAMP:20260422T012954Z
UID:141-3008099@tfwb.org
DTSTART:20261018T123000Z
DTEND:20261018T133000Z
CLASS:PUBLIC
CREATED:20260421T194928
DESCRIPTION:Join Jim Davidson for Sunday School before service\, 8:30am-9:3
 0am.
LAST-MODIFIED:20260421T194928
LOCATION:
SUMMARY:Adult Sunday School with Jim
URL;VALUE=URI:https://www.tfwb.org/events/adult-sunday-school-with-jim--141
 /2026-10-18
END:VEVENT
END:VCALENDAR
