BEGIN:VCALENDAR
VERSION:2.0
PRODID:icalendar-ruby
CALSCALE:GREGORIAN
METHOD:PUBLISH
BEGIN:VEVENT
DTSTAMP:20260421T200327Z
UID:141-3004472@tfwb.org
DTSTART:20260927T123000Z
DTEND:20260927T133000Z
CLASS:PUBLIC
CREATED:20260421T143413
DESCRIPTION:Join Jim Davidson for Sunday School before service\, 8:30am-9:3
 0am.
LAST-MODIFIED:20260421T143413
LOCATION:
SUMMARY:Adult Sunday School with Jim
URL;VALUE=URI:https://www.tfwb.org/events/adult-sunday-school-with-jim--141
 /2026-09-27
END:VEVENT
END:VCALENDAR
