BEGIN:VCALENDAR
VERSION:2.0
PRODID:icalendar-ruby
CALSCALE:GREGORIAN
METHOD:PUBLISH
BEGIN:VEVENT
DTSTAMP:20260421T165651Z
UID:141-3002658@tfwb.org
DTSTART:20260913T123000Z
DTEND:20260913T133000Z
CLASS:PUBLIC
CREATED:20260421T115523
DESCRIPTION:Join Jim Davidson for Sunday School before service\, 8:30am-9:3
 0am.
LAST-MODIFIED:20260421T115523
LOCATION:
SUMMARY:Adult Sunday School with Jim
URL;VALUE=URI:https://www.tfwb.org/events/adult-sunday-school-with-jim--141
 /2026-09-13
END:VEVENT
END:VCALENDAR
